BEGIN:VCALENDAR
VERSION:2.0
PRODID:-//Fabrice&#039;s Sport Chrono - ECPv6.15.20//NONSGML v1.0//EN
CALSCALE:GREGORIAN
METHOD:PUBLISH
X-WR-CALNAME:Fabrice&#039;s Sport Chrono
X-ORIGINAL-URL:https://fabricessportchrono.fr
X-WR-CALDESC:Évènements pour Fabrice&#039;s Sport Chrono
REFRESH-INTERVAL;VALUE=DURATION:PT1H
X-Robots-Tag:noindex
X-PUBLISHED-TTL:PT1H
BEGIN:VTIMEZONE
TZID:America/Guadeloupe
BEGIN:STANDARD
TZOFFSETFROM:-0400
TZOFFSETTO:-0400
TZNAME:AST
DTSTART:20250101T000000
END:STANDARD
END:VTIMEZONE
BEGIN:VEVENT
DTSTART;TZID=America/Guadeloupe:20260508T160000
DTEND;TZID=America/Guadeloupe:20260508T180000
DTSTAMP:20260419T203200
CREATED:20260418T234406Z
LAST-MODIFIED:20260418T234521Z
UID:6816-1778256000-1778263200@fabricessportchrono.fr
SUMMARY:Les Foulées de la Caisse Locale du Crédit Agricole de Miquel
DESCRIPTION:
URL:https://fabricessportchrono.fr/calendar/les-foulees-de-la-caisse-locale-du-credit-agricole-de-miquel-2/
LOCATION:Pointe a Pitre\, Bld de l'amitié et des peuples de la caraibes\, pointe a pitre\, 97110\, Guadeloupe
CATEGORIES:10km,5km
END:VEVENT
BEGIN:VEVENT
DTSTART;VALUE=DATE:20261101
DTEND;VALUE=DATE:20261102
DTSTAMP:20260419T203200
CREATED:20260123T085306Z
LAST-MODIFIED:20260203T144604Z
UID:6610-1793491200-1793577599@fabricessportchrono.fr
SUMMARY:39ème Championnat de France Cross Country des Polices Municipales
DESCRIPTION:Cliquez ici pour vous inscrire au Cross Country des Polices Municipales
URL:https://fabricessportchrono.fr/calendar/crosscountrydespolicesmunicipales/
LOCATION:Baie Mahault\, Baie Mahault\, 97122\, Guadeloupe
CATEGORIES:Cross
ATTACH;FMTTYPE=image/jpeg:https://fabricessportchrono.fr/wp-content/uploads/2026/01/IMG-20260109-WA0019-e1769158922595.jpg
ORGANIZER;CN="APMG":MAILTO:ampg.971@gmail.com
END:VEVENT
END:VCALENDAR